BEGIN:VCALENDAR
VERSION:2.0
PRODID:-//ChamberMaster//Event Calendar 2.0//EN
METHOD:PUBLISH
X-PUBLISHED-TTL:P3D
REFRESH-INTERVAL:P3D
CALSCALE:GREGORIAN
BEGIN:VEVENT
DTSTART:20190314T220000Z
DTEND:20190315T000000Z
X-MICROSOFT-CDO-ALLDAYEVENT:FALSE
SUMMARY:Boerne After 5 Mixer - Presented by Cibolo Creek Health & Rehab
DESCRIPTION:Come mix and mingle with your fellow Boerne Chamber Members at the Boerne After Hours Mixer sponsored by Cibolo Creek Health & Rehab.
X-ALT-DESC;FMTTYPE=text/html:Come mix and mingle with your fellow Boerne Chamber Members at the Boerne After Hours Mixer sponsored by Cibolo Creek Health &amp\; Rehab.<br />\n&nbsp\;
LOCATION:Cibolo Creek Health & Rehab 1440 River Road Boerne\, TX 78006
UID:e.187.13963
SEQUENCE:3
DTSTAMP:20260419T175724Z
URL:https://business.boerne.org/events/details/boerne-after-5-mixer-presented-by-cibolo-creek-health-rehab-13963
END:VEVENT

END:VCALENDAR
