BEGIN:VCALENDAR
VERSION:2.0
PRODID:-//ChamberMaster//Event Calendar 2.0//EN
METHOD:PUBLISH
X-PUBLISHED-TTL:P3D
REFRESH-INTERVAL:P3D
CALSCALE:GREGORIAN
BEGIN:VEVENT
DTSTART:20190808T220000Z
DTEND:20190809T000000Z
X-MICROSOFT-CDO-ALLDAYEVENT:FALSE
SUMMARY:Boerne After 5 Mixer - Presented by Cavender Chevrolet
DESCRIPTION:Join us for a Boerne After 5 Mixer Presented by Cavender Chevrolet!
X-ALT-DESC;FMTTYPE=text/html:Join us for a Boerne After 5 Mixer Presented by Cavender Chevrolet!
LOCATION:Cavender Chevrolet 30700 IH 10 W Boerne TX 78006
UID:e.187.16734
SEQUENCE:3
DTSTAMP:20260419T161044Z
URL:https://business.boerne.org/events/details/boerne-after-5-mixer-presented-by-cavender-chevrolet-16734
END:VEVENT

END:VCALENDAR
