BEGIN:VCALENDAR
VERSION:2.0
PRODID:-//ChamberMaster//Event Calendar 2.0//EN
METHOD:PUBLISH
X-PUBLISHED-TTL:P3D
REFRESH-INTERVAL:P3D
CALSCALE:GREGORIAN
BEGIN:VEVENT
DTSTART:20180726T220000Z
DTEND:20180727T000000Z
X-MICROSOFT-CDO-ALLDAYEVENT:FALSE
SUMMARY:Boerne After 5 Mixer - Perry Homes
DESCRIPTION:Come mix and mingle with your fellow Chamber Members at the Boerne After 5 Mixer sponsored by Perry Homes.
X-ALT-DESC;FMTTYPE=text/html:Come mix and mingle with your fellow Chamber Members at the Boerne After 5 Mixer sponsored by Perry Homes.
LOCATION:Perry Homes River Valley in Fair Oaks Ranch 7986 Cibolo View Fair Oaks Ranch\, 78015 (770) 363-8616 jennette.sanchez@perryhomes.com
UID:e.187.13116
SEQUENCE:3
DTSTAMP:20260420T074417Z
URL:https://business.boerne.org/events/details/boerne-after-5-mixer-perry-homes-13116
END:VEVENT

END:VCALENDAR
