BEGIN:VCALENDAR
VERSION:2.0
PRODID:-//ChamberMaster//Event Calendar 2.0//EN
METHOD:PUBLISH
X-PUBLISHED-TTL:P3D
REFRESH-INTERVAL:P3D
CALSCALE:GREGORIAN
BEGIN:VEVENT
DTSTART:20180808T220000Z
DTEND:20180809T000000Z
X-MICROSOFT-CDO-ALLDAYEVENT:FALSE
SUMMARY:Boerne After 5 Mixer - Meritage Homes
DESCRIPTION:Come mix and mingel with your fellow Chamber Members for Boerne After 5 Mixer sponsored by Meritage Homes.
X-ALT-DESC;FMTTYPE=text/html:Come mix and mingel with your fellow Chamber Members for Boerne After 5 Mixer sponsored by Meritage Homes.&nbsp\;&nbsp\;
LOCATION:Southglen Model Home 105 Heathcot Boerne\, TX 78015
UID:e.187.13117
SEQUENCE:3
DTSTAMP:20260420T042659Z
URL:https://business.boerne.org/events/details/boerne-after-5-mixer-meritage-homes-13117
END:VEVENT

END:VCALENDAR
