BEGIN:VCALENDAR
VERSION:2.0
PRODID:-//ChamberMaster//Event Calendar 2.0//EN
METHOD:PUBLISH
X-PUBLISHED-TTL:P3D
REFRESH-INTERVAL:P3D
CALSCALE:GREGORIAN
BEGIN:VEVENT
DTSTART:20191114T230000Z
DTEND:20191115T010000Z
X-MICROSOFT-CDO-ALLDAYEVENT:FALSE
SUMMARY:Boerne After 5 Mixer - Hosted by Tapatio Springs Hill Country Resort
DESCRIPTION:Join us for a Boerne After 5 Mixer at Tapatio Springs Hill Country Resort! Mix and mingle with your fellow Chamber members and enjoy food and drinks.
X-ALT-DESC;FMTTYPE=text/html:Join us for a Boerne After 5 Mixer at&nbsp\;Tapatio Springs Hill Country Resort! Mix and mingle with your fellow Chamber members and enjoy food and drinks.
LOCATION:Tapatio Springs Hill Country Resort 1 Resort Way Boerne\, TX 78006
UID:e.187.16122
SEQUENCE:3
DTSTAMP:20260419T210752Z
URL:https://business.boerne.org/events/details/boerne-after-5-mixer-hosted-by-tapatio-springs-hill-country-resort-16122
END:VEVENT

END:VCALENDAR
