BEGIN:VCALENDAR
VERSION:2.0
PRODID:-//ChamberMaster//Event Calendar 2.0//EN
METHOD:PUBLISH
X-PUBLISHED-TTL:P3D
REFRESH-INTERVAL:P3D
CALSCALE:GREGORIAN
BEGIN:VEVENT
DTSTART:20190131T230000Z
DTEND:20190201T010000Z
X-MICROSOFT-CDO-ALLDAYEVENT:FALSE
SUMMARY:Boerne After 5 Mixer - Hosted by Miralomas
DESCRIPTION:Mix\, mingle and network with your fellow Chamber members at our Boerne After 5 Mixer hosted by Miralomas!
X-ALT-DESC;FMTTYPE=text/html:Mix\, mingle and network with your fellow Chamber members at our Boerne After 5 Mixer hosted by Miralomas!
LOCATION:Miralomas Clubhouse 440 State Hwy 46 W. Boerne\, TX 78006
UID:e.187.15568
SEQUENCE:3
DTSTAMP:20260419T210115Z
URL:https://business.boerne.org/events/details/boerne-after-5-mixer-hosted-by-miralomas-15568
END:VEVENT

END:VCALENDAR
