BEGIN:VCALENDAR
VERSION:2.0
PRODID:-//ChamberMaster//Event Calendar 2.0//EN
METHOD:PUBLISH
X-PUBLISHED-TTL:P3D
REFRESH-INTERVAL:P3D
CALSCALE:GREGORIAN
BEGIN:VEVENT
DTSTART:20190912T220000Z
DTEND:20190913T000000Z
X-MICROSOFT-CDO-ALLDAYEVENT:FALSE
SUMMARY:Boerne After 5 Mixer - Hosted by Dietz-McLean Optical & Johnson Eye Care
DESCRIPTION:Join us for a Boerne After 5 Mixer hosted by Dietz-McLean Optical & Johnson Eye Care!
X-ALT-DESC;FMTTYPE=text/html:Join us for a Boerne After 5 Mixer hosted by Dietz-McLean Optical &amp\; Johnson Eye Care!
LOCATION:Dietz-McLean Optical & Johnson Eye Care 1375 S. Main St. Boerne\, TX 78006
UID:e.187.15550
SEQUENCE:3
DTSTAMP:20260419T175344Z
URL:https://business.boerne.org/events/details/boerne-after-5-mixer-hosted-by-dietz-mclean-optical-johnson-eye-care-15550
END:VEVENT

END:VCALENDAR
