BEGIN:VCALENDAR
VERSION:2.0
PRODID:-//ChamberMaster//Event Calendar 2.0//EN
METHOD:PUBLISH
X-PUBLISHED-TTL:P3D
REFRESH-INTERVAL:P3D
CALSCALE:GREGORIAN
BEGIN:VEVENT
DTSTART:20180426T220000Z
DTEND:20180427T000000Z
X-MICROSOFT-CDO-ALLDAYEVENT:FALSE
SUMMARY:Boerne After 5 Mixer - All County Home Care and Hospice
DESCRIPTION:Please join your fellow Chamber members to mix and mingle at this Boerne After 5 Chamber Mixer at All County Home Care and Hospice.
X-ALT-DESC;FMTTYPE=text/html:Please join your fellow Chamber members to mix and mingle at this Boerne After 5 Chamber Mixer at All County Home Care and Hospice.
LOCATION:37131 Interstate 10 West Frontage Road #400\, Boerne\, TX 78006
UID:e.187.13540
SEQUENCE:3
DTSTAMP:20260420T110823Z
URL:https://business.boerne.org/events/details/boerne-after-5-mixer-all-county-home-care-and-hospice-13540
END:VEVENT

END:VCALENDAR
