BEGIN:VCALENDAR
VERSION:2.0
PRODID:-//ChamberMaster//Event Calendar 2.0//EN
METHOD:PUBLISH
X-PUBLISHED-TTL:P3D
REFRESH-INTERVAL:P3D
CALSCALE:GREGORIAN
BEGIN:VEVENT
DTSTART:20170216T173000Z
DTEND:20170216T180000Z
X-MICROSOFT-CDO-ALLDAYEVENT:FALSE
SUMMARY:Boardroom Ribbon Cutting
DESCRIPTION:Ribbon Cutting for Pauly Tamez Art.
X-ALT-DESC;FMTTYPE=text/html:Ribbon Cutting for Pauly Tamez Art.
LOCATION:Boardroom
UID:e.187.11577
SEQUENCE:3
DTSTAMP:20260423T101601Z
URL:https://business.boerne.org/events/details/boardroom-ribbon-cutting-11577
END:VEVENT

END:VCALENDAR
