BEGIN:VCALENDAR
VERSION:2.0
PRODID:-//ChamberMaster//Event Calendar 2.0//EN
METHOD:PUBLISH
X-PUBLISHED-TTL:P3D
REFRESH-INTERVAL:P3D
CALSCALE:GREGORIAN
BEGIN:VEVENT
DTSTART:20180109T180000Z
DTEND:20180109T193000Z
X-MICROSOFT-CDO-ALLDAYEVENT:FALSE
SUMMARY:Board of Directors Meeting
DESCRIPTION:Chamber Board of Directors Monthly Meeting
X-ALT-DESC;FMTTYPE=text/html:Chamber Board of Directors Monthly Meeting
LOCATION:Chamber of Commerce Conference Room 121 S. Main Street\, Boerne\, TX 78006
UID:e.187.5506
SEQUENCE:3
DTSTAMP:20260422T170927Z
URL:https://business.boerne.org/events/details/board-of-directors-meeting-01-09-2018-5506
END:VEVENT

END:VCALENDAR
