BEGIN:VCALENDAR
VERSION:2.0
PRODID:-//ChamberMaster//Event Calendar 2.0//EN
METHOD:PUBLISH
X-PUBLISHED-TTL:P3D
REFRESH-INTERVAL:P3D
CALSCALE:GREGORIAN
BEGIN:VEVENT
DTSTART:20190114T230000Z
DTEND:20190115T000000Z
X-MICROSOFT-CDO-ALLDAYEVENT:FALSE
SUMMARY:BISD Board of Trustees Meeting
DESCRIPTION:BISD Board of Trustee Meeting
X-ALT-DESC;FMTTYPE=text/html:BISD Board of Trustee Meeting
LOCATION:235 Johns Road Boerne\, TX 78006
UID:e.187.15890
SEQUENCE:3
DTSTAMP:20260419T222934Z
URL:https://business.boerne.org/events/details/bisd-board-of-trustees-meeting-15890
END:VEVENT

END:VCALENDAR
