BEGIN:VCALENDAR
VERSION:2.0
PRODID:-//ChamberMaster//Event Calendar 2.0//EN
METHOD:PUBLISH
X-PUBLISHED-TTL:P3D
REFRESH-INTERVAL:P3D
CALSCALE:GREGORIAN
BEGIN:VEVENT
DTSTART:20190225T230000Z
DTEND:20190226T000000Z
X-MICROSOFT-CDO-ALLDAYEVENT:FALSE
SUMMARY:BISD Board of Trustees Meeting
DESCRIPTION:Boerne Independent School District Board of Trustee Meetings
X-ALT-DESC;FMTTYPE=text/html:Boerne Independent School District Board of Trustee Meetings
LOCATION:BISD Board Room 235 Johns Road\, Boerne\, TX 78006
UID:e.187.15840
SEQUENCE:3
DTSTAMP:20260419T204527Z
URL:https://business.boerne.org/events/details/bisd-board-of-trustees-meeting-15840
END:VEVENT

END:VCALENDAR
