BEGIN:VCALENDAR
VERSION:2.0
PRODID:-//ChamberMaster//Event Calendar 2.0//EN
METHOD:PUBLISH
X-PUBLISHED-TTL:P3D
REFRESH-INTERVAL:P3D
CALSCALE:GREGORIAN
BEGIN:VEVENT
DTSTART:20190415T220000Z
DTEND:20190415T230000Z
X-MICROSOFT-CDO-ALLDAYEVENT:FALSE
SUMMARY:BISD Board of Trustees Meeting
DESCRIPTION:BISD Board of Trustees Meeting
X-ALT-DESC;FMTTYPE=text/html:BISD Board of Trustees Meeting
LOCATION:BISD Conference Room 235 Johns Road\, Boerne\, TX 78006
UID:e.187.15878
SEQUENCE:3
DTSTAMP:20260419T161008Z
URL:https://business.boerne.org/events/details/bisd-board-of-trustees-meeting-04-15-2019-15878
END:VEVENT

END:VCALENDAR
