BEGIN:VCALENDAR
VERSION:2.0
PRODID:-//ChamberMaster//Event Calendar 2.0//EN
METHOD:PUBLISH
X-PUBLISHED-TTL:P3D
REFRESH-INTERVAL:P3D
CALSCALE:GREGORIAN
BEGIN:VEVENT
DTSTART:20250422T180000Z
DTEND:20250422T200000Z
X-MICROSOFT-CDO-ALLDAYEVENT:FALSE
SUMMARY:Beginning Genealogy Course - Genealogical Society of Kendall County
DESCRIPTION:Join The Genealogical Society of Kendall County for a beginning genealogy course with speakers Lloyd Shenberger and Sheryl Tierney.\n\n\n\nTopics will include:\n\n	Getting started\n	Getting organized\n	United States Census & US Census Non-Population\n	Vital records\n	Land records\n	Probate records\n\nThis class benefit everyone! Even seasoned genealogy researchers will gain valuable insight from different points of view\, tips and techniques.
X-ALT-DESC;FMTTYPE=text/html:Join The Genealogical Society of Kendall County for a beginning genealogy course with speakers Lloyd Shenberger and Sheryl Tierney.<br />\n<br />\nTopics will include:\n<ul>\n	<li>Getting started</li>\n	<li>Getting organized</li>\n	<li>United States Census &amp\; US Census Non-Population</li>\n	<li>Vital records</li>\n	<li>Land records</li>\n	<li>Probate records</li>\n</ul>\nThis class benefit everyone! Even seasoned genealogy researchers will gain valuable insight from different points of view\, tips and techniques.<br />\n&nbsp\;
LOCATION:St John Lutheran Church 315 Rosewood Ave Boerne\, TX 78006
UID:e.187.29062
SEQUENCE:3
DTSTAMP:20260419T130644Z
URL:https://business.boerne.org/events/details/beginning-genealogy-course-genealogical-society-of-kendall-county-04-22-2025-29062
END:VEVENT

END:VCALENDAR
