BEGIN:VCALENDAR
VERSION:2.0
PRODID:-//ChamberMaster//Event Calendar 2.0//EN
METHOD:PUBLISH
X-PUBLISHED-TTL:P3D
REFRESH-INTERVAL:P3D
CALSCALE:GREGORIAN
BEGIN:VEVENT
DTSTART:20180516T160000Z
DTEND:20180516T180000Z
X-MICROSOFT-CDO-ALLDAYEVENT:FALSE
SUMMARY:Beginners Business Facebook Workshop
DESCRIPTION:Do you have a Facebook page for your business\, but do not know what to do next? Then this workshop is for you! Our Beginners Business Facebook Workshop is a hands-on class for beginners. With over 2 billion monthly users\, Facebook (FB) has more users than any other social network making this an important part of your marketing strategy. Trying to understand the platform can be overwhelming for businesses that are just beginning to utilize FB.  \n\n \n\nIn this session we will guide you through the basics of Facebook and show you how to:\n\n	schedule a post\n	draft a post\n	tag another business in your post\n	like other business pages\n	create a slide show with your pictures\n	create an FB Event Page\n	create a paid targeted boost\n	invite friends to like your business page\n	easy ways to resize pictures \n	free and simple websites/apps to use for graphics\n	introduction to your business pages analytics and measurements (what posts are working\, who is your audience)\n	basic strategy for your page (How many times do you post in a week? Do I share other businesses posts? What is Facebook Live? and more).\n\n \n\nOur goal is to show you how to utilize Facebook to achieve great results for your business and speak directly to your audience. You will leave with basic knowledge and some practical experience on how to use Facebook marketing for your business.\n\n \n\nIs this workshop for me?\n\nThis workshop has been designed for business owners who have recently set up a business page and need guidance from a beginner level. You must have administrative rights to your page.  Please bring your laptop\, 6-8 (more is even better) pictures you can post on your page as well as your logo in jpeg\, png format.
X-ALT-DESC;FMTTYPE=text/html:<span style="font-family:helvetica\,sans-serif\;">Do you have a Facebook page for your business\, but do not know what to do next? Then this workshop is for you! Our Beginners Business Facebook Workshop is a hands-on class for <strong><em>beginners</em></strong>. With over 2 billion monthly users\, Facebook (FB) has more users than any other social network&mdash\;making this an important part of your marketing strategy. Trying to understand the platform can be overwhelming for businesses that are just beginning to utilize FB. &nbsp\;</span><br />\n&nbsp\;<br />\n<strong><span style="color:#2F5597\;"><span style="font-family:helvetica\,sans-serif\;">In this session we will guide you through the basics of Facebook and show you how to:</span></span></strong>\n<ul>\n	<li style="margin-top:0in\;margin-right:0in\;margin-bottom:0in\;margin-bottom:.0001pt\;background:white\;vertical-align:baseline\;"><span style="font-family:helvetica\,sans-serif\;">schedule a post</span></li>\n	<li style="margin-top:0in\;margin-right:0in\;margin-bottom:0in\;margin-bottom:.0001pt\;background:white\;vertical-align:baseline\;"><span style="font-family:helvetica\,sans-serif\;">draft a post</span></li>\n	<li style="margin-top:0in\;margin-right:0in\;margin-bottom:0in\;margin-bottom:.0001pt\;background:white\;vertical-align:baseline\;"><span style="font-family:helvetica\,sans-serif\;">tag another business in your post</span></li>\n	<li style="margin-top:0in\;margin-right:0in\;margin-bottom:0in\;margin-bottom:.0001pt\;background:white\;vertical-align:baseline\;"><span style="font-family:helvetica\,sans-serif\;">like other business pages</span></li>\n	<li style="margin-top:0in\;margin-right:0in\;margin-bottom:0in\;margin-bottom:.0001pt\;background:white\;vertical-align:baseline\;"><span style="font-family:helvetica\,sans-serif\;">create a slide show with your pictures</span></li>\n	<li style="margin-top:0in\;margin-right:0in\;margin-bottom:0in\;margin-bottom:.0001pt\;background:white\;vertical-align:baseline\;"><span style="font-family:helvetica\,sans-serif\;">create an FB Event Page</span></li>\n	<li style="margin-top:0in\;margin-right:0in\;margin-bottom:0in\;margin-bottom:.0001pt\;background:white\;vertical-align:baseline\;"><span style="font-family:helvetica\,sans-serif\;">create a paid targeted boost</span></li>\n	<li style="margin-top:0in\;margin-right:0in\;margin-bottom:0in\;margin-bottom:.0001pt\;background:white\;vertical-align:baseline\;"><span style="font-family:helvetica\,sans-serif\;">invite friends to like your business page</span></li>\n	<li style="margin-top:0in\;margin-right:0in\;margin-bottom:0in\;margin-bottom:.0001pt\;background:white\;vertical-align:baseline\;"><span style="font-family:helvetica\,sans-serif\;">easy ways to resize pictures </span></li>\n	<li style="margin-top:0in\;margin-right:0in\;margin-bottom:0in\;margin-bottom:.0001pt\;background:white\;vertical-align:baseline\;"><span style="font-family:helvetica\,sans-serif\;">free and simple websites/apps to use for graphics</span></li>\n	<li style="margin-top:0in\;margin-right:0in\;margin-bottom:0in\;margin-bottom:.0001pt\;background:white\;vertical-align:baseline\;"><span style="font-family:helvetica\,sans-serif\;">introduction to your business pages analytics and measurements (what posts are working\, who is your audience)</span></li>\n	<li style="margin-top:0in\;margin-right:0in\;margin-bottom:0in\;margin-bottom:.0001pt\;background:white\;vertical-align:baseline\;"><span style="font-family:helvetica\,sans-serif\;">basic strategy for your page (How many times do you post in a week? Do I share other businesses posts? What is Facebook Live? and more).</span></li>\n</ul>\n&nbsp\;<br />\n<span style="font-family:helvetica\,sans-serif\;">Our goal is to show you how to utilize Facebook to achieve great results for your business and speak directly to your audience. You will leave with basic knowledge and some practical experience on how to use Facebook marketing for your business.</span><br />\n&nbsp\;<br />\n<strong><span style="color:#2F5597\;"><span style="font-family:helvetica\,sans-serif\;">Is this workshop for me?</span></span></strong><br />\n<span style="font-family:helvetica\,sans-serif\;">This workshop has been designed for business owners who have recently set up a business page and need guidance from a beginner level. You <u>must have</u> administrative rights to your page.&nbsp\; Please bring your laptop\, 6-8 (more is even better) pictures you can post on your page as well as your logo in jpeg\, png format.&nbsp\; </span>
LOCATION:Boerne Chamber of Commerce Board room
UID:e.187.13699
SEQUENCE:3
DTSTAMP:20260422T085626Z
URL:https://business.boerne.org/events/details/beginners-business-facebook-workshop-13699
END:VEVENT

END:VCALENDAR
