BEGIN:VCALENDAR
VERSION:2.0
PRODID:-//ChamberMaster//Event Calendar 2.0//EN
METHOD:PUBLISH
X-PUBLISHED-TTL:P3D
REFRESH-INTERVAL:P3D
CALSCALE:GREGORIAN
BEGIN:VEVENT
DTSTART:20230323T134500Z
DTEND:20230323T150000Z
X-MICROSOFT-CDO-ALLDAYEVENT:FALSE
SUMMARY:Before 9 Morning Mingle hosted by Hill Country Pregnancy Care Center
DESCRIPTION:We're mixing things up!\n\n\n\nJoin us for a Boerne Before 9 Morning Mingle hosted by Hill Country pregnancy Care Center on Thursday\, March 23rd from 8:45AM to 10AM! Mix and mingle with your fellow Chamber members and enjoy some delicious food and drinks. Morning Mingles are free for all Chamber Members to attend.\n\n\n\nA Boerne Before 9 Morning Mingle will be the morning version of our After 5 Mixers!
X-ALT-DESC;FMTTYPE=text/html:We&#39\;re mixing things up!<br />\n<br />\nJoin us for a Boerne Before 9 Morning Mingle hosted by Hill Country pregnancy Care Center on Thursday\, March 23rd from 8:45AM to 10AM! Mix and mingle with your fellow Chamber members and enjoy some delicious food and drinks. Morning Mingles are free for all Chamber Members to attend.<br />\n<br />\nA Boerne Before 9 Morning Mingle will be the morning version of our After 5 Mixers!&nbsp\;&nbsp\;
LOCATION:Hill Country Pregnancy Care Center 439 Fabra St. Boerne\, TX. 78006
UID:e.187.20728
SEQUENCE:3
DTSTAMP:20260423T085203Z
URL:https://business.boerne.org/events/details/before-9-morning-mingle-hosted-by-hill-country-pregnancy-care-center-20728
END:VEVENT

END:VCALENDAR
