BEGIN:VCALENDAR
VERSION:2.0
PRODID:-//ChamberMaster//Event Calendar 2.0//EN
METHOD:PUBLISH
X-PUBLISHED-TTL:P3D
REFRESH-INTERVAL:P3D
CALSCALE:GREGORIAN
BEGIN:VEVENT
DTSTART:20241010T134500Z
DTEND:20241010T150000Z
X-MICROSOFT-CDO-ALLDAYEVENT:FALSE
SUMMARY:Before 9 Morning Mingle hosted by Hampton Inn & Suites at Boerne
DESCRIPTION:Join us for a Boerne Before 9 Morning Mingle hosted by Hampton Inn & Suites at Boerne on Thursday\, October 10th at 8:45-10am! Hampton Inn & Suites is located at 34935 IH 10 W.\, Boerne TX 78006.\n\n\n\nOur Before 9 Morning Mingles offer an opportunity for professionals and entrepreneurs to gather for a refreshing morning of networking\, collaboration\, and community building. Whether you're a seasoned business owner or just starting out\, our mingles offer a welcoming atmosphere where you can exchange ideas\, share experiences\, and strengthen your professional network. \n\n\n\nJoin us at our next mingle and watch your business connections flourish!\n\n\n\nMingles are free for all Chamber Members to attend. RSVPs are encouraged by not required. Please email steely@boerne.org to RSVP!
X-ALT-DESC;FMTTYPE=text/html:<span style="font-size: 14px\; font-family: arial\;">Join us for a Boerne Before 9 Morning Mingle hosted by Hampton Inn &amp\; Suites at Boerne&nbsp\;</span><span style="font-size:14px\;"><span style="font-family:arial\;">on Thursday\, October 10th at 8:45-10am! Hampton Inn &amp\; Suites is located at 34935 IH 10 W.\, Boerne TX 78006.<br style="box-sizing: border-box\; color: rgb(117\, 120\, 125)\; font-family: OpenSans\, Helvetica\, Arial\, sans-serif\; font-size: 16px\;" />\n<br style="box-sizing: border-box\; color: rgb(117\, 120\, 125)\; font-family: OpenSans\, Helvetica\, Arial\, sans-serif\; font-size: 16px\;" />\nOur Before 9 Morning Mingles offer an opportunity for professionals&nbsp\;and entrepreneurs&nbsp\;to gather for a refreshing morning of networking\, collaboration\, and community building. Whether you&#39\;re a seasoned business owner or just starting out\, our mingles offer a welcoming atmosphere where you can exchange ideas\, share experiences\, and strengthen your professional network.&nbsp\;<br style="box-sizing: border-box\; color: rgb(117\, 120\, 125)\; font-family: OpenSans\, Helvetica\, Arial\, sans-serif\; font-size: 16px\;" />\n<br style="box-sizing: border-box\; color: rgb(117\, 120\, 125)\; font-family: OpenSans\, Helvetica\, Arial\, sans-serif\; font-size: 16px\;" />\nJoin us at our next mingle and watch your business connections flourish!<br style="box-sizing: border-box\; color: rgb(117\, 120\, 125)\; font-family: OpenSans\, Helvetica\, Arial\, sans-serif\; font-size: 16px\;" />\n<br style="box-sizing: border-box\; color: rgb(117\, 120\, 125)\; font-family: OpenSans\, Helvetica\, Arial\, sans-serif\; font-size: 16px\;" />\nMingles are free for all Chamber Members to attend. RSVPs are encouraged by not required. Please email steely@boerne.org to RSVP!</span></span>
LOCATION:Hampton Inn & Suites at Boerne 34935 IH 10 W Boerne\, TX 78006
UID:e.187.28531
SEQUENCE:3
DTSTAMP:20260419T162824Z
URL:https://business.boerne.org/events/details/before-9-morning-mingle-hosted-by-hampton-inn-suites-at-boerne-28531
END:VEVENT

END:VCALENDAR
