BEGIN:VCALENDAR
VERSION:2.0
PRODID:-//ChamberMaster//Event Calendar 2.0//EN
METHOD:PUBLISH
X-PUBLISHED-TTL:P3D
REFRESH-INTERVAL:P3D
CALSCALE:GREGORIAN
BEGIN:VEVENT
DTSTART:20241022T160000Z
DTEND:20241022T180000Z
X-MICROSOFT-CDO-ALLDAYEVENT:FALSE
SUMMARY:Becoming An Effective Nonprofit Board Member presented by The Community Foundation of the Texas Hill Country
DESCRIPTION:This event is currently SOLD OUT. To be placed on the waitlist\, please email steely@boerne.org.\n\n\n\nJoin The Community Foundation of the Texas Hill Country and The Greater Boerne Chamber of Commerce for a special luncheon workshop titled "Becoming an Effective Nonprofit Board Member". Lunch will be provided to guests\, sponsored by The Community Foundation of the Texas Hill Country.\n\n\n\nWorkshop Highlights:\n\n	A board's responsibilities\n	Habits of strong boards\n	How to be an effective board member\n	Tools and strategies to improve board dynamics\n\n\n\nTuesday\, October 22\, 2024\n\n11:00 AM - 1:00 PM\n\n\n\nThe Gathering Hall at The Historic Herff Farm\n\n33 Herff Road\n\nBoerne\, TX 78006\n\n\n\nThis is a free event to those currently serving on a nonprofit board of directors or incoming nonprofit board members.\n\n\n\nTo register\, email steely@boerne.org WITH THE FOLLOWING:\n\n\n\n1. Name of attendee(s)\n\n2. Nonprofit who's board you currently serve on or who's board you are incoming
X-ALT-DESC;FMTTYPE=text/html:<span style="color:#FF0000\;"><strong>This event is currently SOLD OUT. To be placed on the waitlist\, please email steely@boerne.org.</strong></span><br />\n<br />\nJoin The Community Foundation of the Texas Hill Country and The Greater Boerne Chamber of Commerce for a special luncheon workshop titled <strong>&quot\;Becoming an Effective Nonprofit Board Member&quot\;.</strong> Lunch will be provided to guests\, sponsored by The Community Foundation of the Texas Hill Country.<br />\n<br />\nWorkshop Highlights:\n<ul>\n	<li>A board&#39\;s responsibilities</li>\n	<li>Habits of strong boards</li>\n	<li>How to be an effective board member</li>\n	<li>Tools and strategies to improve board dynamics</li>\n</ul>\n<br />\n<strong>Tuesday\, October 22\, 2024<br />\n11:00 AM - 1:00 PM<br />\n<br />\nThe Gathering Hall at The Historic Herff Farm<br />\n33 Herff Road<br />\nBoerne\, TX 78006</strong><br />\n<br />\nThis is a free event to those currently serving on a nonprofit board of directors or incoming nonprofit board members.<br />\n<br />\n<strong>To register\, email steely@boerne.org WITH THE FOLLOWING:<br />\n<br />\n1. Name of attendee(s)<br />\n2. Nonprofit who&#39\;s board you currently serve on or who&#39\;s board you are incoming</strong>
LOCATION:The Gathering Hall at Herff Farm 33 Herff Road Boerne\, TX 78006
UID:e.187.28517
SEQUENCE:3
DTSTAMP:20260419T163325Z
URL:https://business.boerne.org/events/details/becoming-an-effective-nonprofit-board-member-presented-by-the-community-foundation-of-the-texas-hill-country-28517
END:VEVENT

END:VCALENDAR
