BEGIN:VCALENDAR
VERSION:2.0
PRODID:-//ChamberMaster//Event Calendar 2.0//EN
METHOD:PUBLISH
X-PUBLISHED-TTL:P3D
REFRESH-INTERVAL:P3D
CALSCALE:GREGORIAN
BEGIN:VEVENT
DTSTART;VALUE=DATE:20241020
DTEND;VALUE=DATE:20241022
TRANSP:TRANSPARENT
X-MICROSOFT-CDO-ALLDAYEVENT:TRUE
SUMMARY:BEC Foundation 6th Annual Charity Golf Tournament\, Dinner & Dance
DESCRIPTION:Since 2008\, the Bandera Electric Cooperative Foundation has provided more than $400\,000 in grants to nonprofit organizations in our community. The 2024 BEC Foundation Charity Golf Tournament is a fundraiser that supports the Bandera Electric Charitable Foundation\, benefiting local nonprofit organizations in the BEC service territory through its community grant program.\n\n\n\nThis fundraiser consists of two different events at Fair Oaks Ranch Golf & Country Club:\n\n- Sunday\, October 20th: Dinner & Dance - Live music from Nashville recording artist Cody Joe Hodges\, great food\, live and silent auctions\n\n- Monday\, October 21st: Golf Tournament & Challenges\n\n\n\nRegister\, sponsor or donate now by going to https://bec-foundation-golf-tournament.perfectgolfevent.com/
X-ALT-DESC;FMTTYPE=text/html:<div class="xdj266r x11i5rnm xat24cr x1mh8g0r x1vvkbs x126k92a" style="margin: 0px\; overflow-wrap: break-word\; white-space-collapse: preserve\; font-family: &quot\;Segoe UI Historic&quot\;\, &quot\;Segoe UI&quot\;\, Helvetica\, Arial\, sans-serif\; color: rgb(8\, 8\, 9)\; font-size: 15px\; background-color: rgb(255\, 255\, 255)\;">\n<div dir="auto" style="font-family: inherit\;">Since 2008\, the <span class="html-span xdj266r x11i5rnm xat24cr x1mh8g0r xexx8yu x4uap5 x18d9i69 xkhd6sd x1hl2dhg x16tdsg8 x1vvkbs" style="margin: 0px\; text-align: inherit\; overflow-wrap: break-word\; padding: 0px\; font-family: inherit\;"><a attributionsrc="/privacy_sandbox/comet/register/source/?xt=AZWIVGSeblCnP_5zdIRo_lEY-dDZ6p_pXSakt3ata7r8bxwKXBrUlNICQ4EORjiRKon0Vw3kSsr9htz4L7zKdVVmdeUyPJv1-OemoYz9NjlbA9kSssPXLAAb2eA0IdSgUrsRCUjRjPPbg6C6buut0WAmyo3UrPOXLWuUAZOPT360xkTuAcTNN0diUswfVGdfhNFPNTmXkvVAmm0xKaFIHIVlnuYIEMlHZM9JM3kPWQBneprcTnWM8wIF1hpNJOF8_GOG436xbPOpKAR7JUw4cIXsQEepOwDJ8PNdeN4ggAQ9MhC7pUBZ9mzttM4uN5xqbNGxASrZiDWHCkBrSzWJy6vr8OOPmxUHF9ytnlw2oRSZxl3isGs0N28ULnnCAmu7S1RyeEnoQ13oMKm_gAElPOE1GLkXK_g3oU3mEEzkuZ1rywtI4zF4RUSkJ95-zE4zEFHC7c0KcCPaAX7B0jcEokwKESgEYVKLpzimKzn9KvrwNG_zrfyKVpoyAnug-jj17E36oVBAeVaa_06Nq3l_9j8G17qGbWk-f2t_K-m8d88M0cQcO20q2UXkIFrXuK76XS3BTdY17DTcv-TlkwF4ZIj8hSrS-kfRX9BmpsU245ETkVKFhMOt4Cx2x9amjLxCav3iwOqlAgFOQY-cGTMqxyOm_Os6sNvz7KvMiJhOjGAayByDQQlg9d8LdhcZS3LVBVZdiAE8kmTqLi7xE7QIjoPzNEjMIHCnagUmdxHVyw7gBXfalUKs6IJPRnm5xv8fGiJSPqFe406Lu5RqK5AEz8zP-bcJRzr_pwL3eBfP1xpyPEZ8r2uCrSSyiEoua0xxevPxsa0iJhPIy1nFfXzK_SGUkl9jwFL_f0zpdGbHrWc6XbqceWsBZv4alEbNhn3Z-ziIDEOBhvCl8mMYo_Yv9KLIkbZ_OuBj80rVc6kdnva0BRW-NOxU_4ygqCssmYpMO01Pfmos2PNUrB5Z1NdCK-J7pESVrg-syx_Bvi4pgvxoP0NZU3sDJ10iHTz16gdk5AKFW0hGYKLe-RpkbzqTWeL4bkd4ieyG91tyrIGCy8V3lrAfA86FEqe3gCRlu3021enDjppAl4huX96SBlN17D4bO3DNjJTiP2js9JSbpEPA66cyFYRvXFEV_RuYJJfty4Ptq6PHHkReEY8tgBLDcdL1NYmFmYBKl0YGD3HLSDIrUlIQs36QlarNxFEloCpOUcbxy801UQ6JFZqdhJtiFfuaL7kPckjT4MDCeTPYkTw7bgwCafGmIyMem0SIFq5rVM__yTo8eWRgUhVxDiUi3IRc0_09VmH78ne18lh_Xw6Lc0uiNkj7ZaVBu3aL5WCZy9XWNUW_k0gUjIvNn3jebbxX3vbLMJWELfW5pYxlosfDYvzslSARxNnfGdOtYpkYFE4qy0KZ1B1lDOQrS3ypfRanWO0WO6Ln6Yinr5LBh8xlyo4ubp-3jgfEML4rdXknKdGpbRHPJlomO7r5B5noFDVx1jz-b9RgLFVnMimd_mrpHI8ObGDvs8WI5UzuW1t5k711vE5eEqnwPpex6Tj2We8nz4h-e4jVAo72i2Rjcr3C-Cp-UI_69dNWxkFZhawU5JtV7OTtzTEz1_M9Qqm1q8GPbnohWWL78oRjxSfwhuFGh5j9Mpufm9NcgXnX7zEcOBQF-p-46cP0w1ahfTu4OpqiOA_1Z01fjLHCozmSmzw1TxieLKRT2ojh16jjfVI6jBuafUCstE7uarhroQICQeAQmkgEp5Z-xKLGaxzT9QQo9ks3-lxnNzlbZOumh3e7tD1qHwS7SxfcRyhgew_hXxsFQpryhod9_XfedOl4LJpHZdMQjE9btv9yJu7xQyX14YJAuvhxWq0RHxX8D1X_G33zoYzMKlVU3lG73nrNOHrISQEd9-rtIiJ02A8FFK-54ZY" class="x1i10hfl xjbqb8w x1ejq31n xd10rxx x1sy0etr x17r0tee x972fbf xcfux6l x1qhh985 xm0m39n x9f619 x1ypdohk xt0psk2 xe8uvvx xdj266r x11i5rnm xat24cr x1mh8g0r xexx8yu x4uap5 x18d9i69 xkhd6sd x16tdsg8 x1hl2dhg xggy1nq x1a2a7pz x1sur9pj xkrqix3 x1fey0fg xo1l8bm" href="https://www.facebook.com/banderaelectric?__cft__[0]=AZWLxrQLWmOarKxtTkGQyi0qL6vftTLFXdk_l319LUsRr7BOaT493FN_PE7wdF1aabtXPiyP9gRRKMe2Y-vanQUFHE3YVN5I42Bl6UhhBDJwV0bpmMQLuqTaYY_IPrORhe2PR_-vQWx9geyW_xOGl7lqsCwvqjH5bb47WzykrySt2yNb9QomseWraG1ZjWgOf8AXzO2KVxm5CW4qdmKbOxg3&amp\;__tn__=-]K-R" role="link" style="cursor: pointer\; text-decoration-line: none\; list-style: none\; margin: 0px\; text-align: inherit\; border-style: none\; padding: 0px\; box-sizing: border-box\; border-width: 0px\; outline: none\; -webkit-tap-highlight-color: transparent\; touch-action: manipulation\; background-color: transparent\; display: inline\; font-family: inherit\;" tabindex="0"><span class="xt0psk2" style="display: inline\; font-family: inherit\;">Bandera Electric Cooperative</span></a></span> Foundation has provided more than $400\,000 in grants to nonprofit organizations in our community. The 2024 BEC Foundation Charity Golf Tournament is a fundraiser that supports the Bandera Electric Charitable Foundation\, benefiting local nonprofit organizations in the BEC service territory through its community grant program.</div>\n</div>\n\n<div class="x11i5rnm xat24cr x1mh8g0r x1vvkbs xtlvy1s x126k92a" style="margin: 0.5em 0px 0px\; overflow-wrap: break-word\; white-space-collapse: preserve\; font-family: &quot\;Segoe UI Historic&quot\;\, &quot\;Segoe UI&quot\;\, Helvetica\, Arial\, sans-serif\; color: rgb(8\, 8\, 9)\; font-size: 15px\; background-color: rgb(255\, 255\, 255)\;">\n<div dir="auto" style="font-family: inherit\;">This fundraiser consists of two different events at <span class="html-span xdj266r x11i5rnm xat24cr x1mh8g0r xexx8yu x4uap5 x18d9i69 xkhd6sd x1hl2dhg x16tdsg8 x1vvkbs" style="margin: 0px\; text-align: inherit\; overflow-wrap: break-word\; padding: 0px\; font-family: inherit\;"><a attributionsrc="/privacy_sandbox/comet/register/source/?xt=AZWIVGSeblCnP_5zdIRo_lEY-dDZ6p_pXSakt3ata7r8bxwKXBrUlNICQ4EORjiRKon0Vw3kSsr9htz4L7zKdVVmdeUyPJv1-OemoYz9NjlbA9kSssPXLAAb2eA0IdSgUrsRCUjRjPPbg6C6buut0WAmyo3UrPOXLWuUAZOPT360xkTuAcTNN0diUswfVGdfhNFPNTmXkvVAmm0xKaFIHIVlnuYIEMlHZM9JM3kPWQBneprcTnWM8wIF1hpNJOF8_GOG436xbPOpKAR7JUw4cIXsQEepOwDJ8PNdeN4ggAQ9MhC7pUBZ9mzttM4uN5xqbNGxASrZiDWHCkBrSzWJy6vr8OOPmxUHF9ytnlw2oRSZxl3isGs0N28ULnnCAmu7S1RyeEnoQ13oMKm_gAElPOE1GLkXK_g3oU3mEEzkuZ1rywtI4zF4RUSkJ95-zE4zEFHC7c0KcCPaAX7B0jcEokwKESgEYVKLpzimKzn9KvrwNG_zrfyKVpoyAnug-jj17E36oVBAeVaa_06Nq3l_9j8G17qGbWk-f2t_K-m8d88M0cQcO20q2UXkIFrXuK76XS3BTdY17DTcv-TlkwF4ZIj8hSrS-kfRX9BmpsU245ETkVKFhMOt4Cx2x9amjLxCav3iwOqlAgFOQY-cGTMqxyOm_Os6sNvz7KvMiJhOjGAayByDQQlg9d8LdhcZS3LVBVZdiAE8kmTqLi7xE7QIjoPzNEjMIHCnagUmdxHVyw7gBXfalUKs6IJPRnm5xv8fGiJSPqFe406Lu5RqK5AEz8zP-bcJRzr_pwL3eBfP1xpyPEZ8r2uCrSSyiEoua0xxevPxsa0iJhPIy1nFfXzK_SGUkl9jwFL_f0zpdGbHrWc6XbqceWsBZv4alEbNhn3Z-ziIDEOBhvCl8mMYo_Yv9KLIkbZ_OuBj80rVc6kdnva0BRW-NOxU_4ygqCssmYpMO01Pfmos2PNUrB5Z1NdCK-J7pESVrg-syx_Bvi4pgvxoP0NZU3sDJ10iHTz16gdk5AKFW0hGYKLe-RpkbzqTWeL4bkd4ieyG91tyrIGCy8V3lrAfA86FEqe3gCRlu3021enDjppAl4huX96SBlN17D4bO3DNjJTiP2js9JSbpEPA66cyFYRvXFEV_RuYJJfty4Ptq6PHHkReEY8tgBLDcdL1NYmFmYBKl0YGD3HLSDIrUlIQs36QlarNxFEloCpOUcbxy801UQ6JFZqdhJtiFfuaL7kPckjT4MDCeTPYkTw7bgwCafGmIyMem0SIFq5rVM__yTo8eWRgUhVxDiUi3IRc0_09VmH78ne18lh_Xw6Lc0uiNkj7ZaVBu3aL5WCZy9XWNUW_k0gUjIvNn3jebbxX3vbLMJWELfW5pYxlosfDYvzslSARxNnfGdOtYpkYFE4qy0KZ1B1lDOQrS3ypfRanWO0WO6Ln6Yinr5LBh8xlyo4ubp-3jgfEML4rdXknKdGpbRHPJlomO7r5B5noFDVx1jz-b9RgLFVnMimd_mrpHI8ObGDvs8WI5UzuW1t5k711vE5eEqnwPpex6Tj2We8nz4h-e4jVAo72i2Rjcr3C-Cp-UI_69dNWxkFZhawU5JtV7OTtzTEz1_M9Qqm1q8GPbnohWWL78oRjxSfwhuFGh5j9Mpufm9NcgXnX7zEcOBQF-p-46cP0w1ahfTu4OpqiOA_1Z01fjLHCozmSmzw1TxieLKRT2ojh16jjfVI6jBuafUCstE7uarhroQICQeAQmkgEp5Z-xKLGaxzT9QQo9ks3-lxnNzlbZOumh3e7tD1qHwS7SxfcRyhgew_hXxsFQpryhod9_XfedOl4LJpHZdMQjE9btv9yJu7xQyX14YJAuvhxWq0RHxX8D1X_G33zoYzMKlVU3lG73nrNOHrISQEd9-rtIiJ02A8FFK-54ZY" class="x1i10hfl xjbqb8w x1ejq31n xd10rxx x1sy0etr x17r0tee x972fbf xcfux6l x1qhh985 xm0m39n x9f619 x1ypdohk xt0psk2 xe8uvvx xdj266r x11i5rnm xat24cr x1mh8g0r xexx8yu x4uap5 x18d9i69 xkhd6sd x16tdsg8 x1hl2dhg xggy1nq x1a2a7pz x1sur9pj xkrqix3 x1fey0fg xo1l8bm" href="https://www.facebook.com/FairOaksRanchGCC?__cft__[0]=AZWLxrQLWmOarKxtTkGQyi0qL6vftTLFXdk_l319LUsRr7BOaT493FN_PE7wdF1aabtXPiyP9gRRKMe2Y-vanQUFHE3YVN5I42Bl6UhhBDJwV0bpmMQLuqTaYY_IPrORhe2PR_-vQWx9geyW_xOGl7lqsCwvqjH5bb47WzykrySt2yNb9QomseWraG1ZjWgOf8AXzO2KVxm5CW4qdmKbOxg3&amp\;__tn__=-]K-R" role="link" style="cursor: pointer\; text-decoration-line: none\; list-style: none\; margin: 0px\; text-align: inherit\; border-style: none\; padding: 0px\; box-sizing: border-box\; border-width: 0px\; outline: none\; -webkit-tap-highlight-color: transparent\; touch-action: manipulation\; background-color: transparent\; display: inline\; font-family: inherit\;" tabindex="0"><span class="xt0psk2" style="display: inline\; font-family: inherit\;">Fair Oaks Ranch Golf &amp\; Country Club</span></a></span>:</div>\n\n<div dir="auto" style="font-family: inherit\;">- Sunday\, October 20th: Dinner &amp\; Dance - Live music from Nashville recording artist Cody Joe Hodges\, great food\, live and silent auctions</div>\n\n<div dir="auto" style="font-family: inherit\;">- Monday\, October 21st: Golf Tournament &amp\; Challenges</div>\n</div>\n\n<div class="x11i5rnm xat24cr x1mh8g0r x1vvkbs xtlvy1s x126k92a" style="margin: 0.5em 0px 0px\; overflow-wrap: break-word\; white-space-collapse: preserve\; font-family: &quot\;Segoe UI Historic&quot\;\, &quot\;Segoe UI&quot\;\, Helvetica\, Arial\, sans-serif\; color: rgb(8\, 8\, 9)\; font-size: 15px\; background-color: rgb(255\, 255\, 255)\;">\n<div dir="auto" style="font-family: inherit\;">Register\, sponsor or donate now by going to <span class="html-span xdj266r x11i5rnm xat24cr x1mh8g0r xexx8yu x4uap5 x18d9i69 xkhd6sd x1hl2dhg x16tdsg8 x1vvkbs" style="margin: 0px\; text-align: inherit\; overflow-wrap: break-word\; padding: 0px\; font-family: inherit\;"><a attributionsrc="/privacy_sandbox/comet/register/source/?xt=AZWIVGSeblCnP_5zdIRo_lEY-dDZ6p_pXSakt3ata7r8bxwKXBrUlNICQ4EORjiRKon0Vw3kSsr9htz4L7zKdVVmdeUyPJv1-OemoYz9NjlbA9kSssPXLAAb2eA0IdSgUrsRCUjRjPPbg6C6buut0WAmyo3UrPOXLWuUAZOPT360xkTuAcTNN0diUswfVGdfhNFPNTmXkvVAmm0xKaFIHIVlnuYIEMlHZM9JM3kPWQBneprcTnWM8wIF1hpNJOF8_GOG436xbPOpKAR7JUw4cIXsQEepOwDJ8PNdeN4ggAQ9MhC7pUBZ9mzttM4uN5xqbNGxASrZiDWHCkBrSzWJy6vr8OOPmxUHF9ytnlw2oRSZxl3isGs0N28ULnnCAmu7S1RyeEnoQ13oMKm_gAElPOE1GLkXK_g3oU3mEEzkuZ1rywtI4zF4RUSkJ95-zE4zEFHC7c0KcCPaAX7B0jcEokwKESgEYVKLpzimKzn9KvrwNG_zrfyKVpoyAnug-jj17E36oVBAeVaa_06Nq3l_9j8G17qGbWk-f2t_K-m8d88M0cQcO20q2UXkIFrXuK76XS3BTdY17DTcv-TlkwF4ZIj8hSrS-kfRX9BmpsU245ETkVKFhMOt4Cx2x9amjLxCav3iwOqlAgFOQY-cGTMqxyOm_Os6sNvz7KvMiJhOjGAayByDQQlg9d8LdhcZS3LVBVZdiAE8kmTqLi7xE7QIjoPzNEjMIHCnagUmdxHVyw7gBXfalUKs6IJPRnm5xv8fGiJSPqFe406Lu5RqK5AEz8zP-bcJRzr_pwL3eBfP1xpyPEZ8r2uCrSSyiEoua0xxevPxsa0iJhPIy1nFfXzK_SGUkl9jwFL_f0zpdGbHrWc6XbqceWsBZv4alEbNhn3Z-ziIDEOBhvCl8mMYo_Yv9KLIkbZ_OuBj80rVc6kdnva0BRW-NOxU_4ygqCssmYpMO01Pfmos2PNUrB5Z1NdCK-J7pESVrg-syx_Bvi4pgvxoP0NZU3sDJ10iHTz16gdk5AKFW0hGYKLe-RpkbzqTWeL4bkd4ieyG91tyrIGCy8V3lrAfA86FEqe3gCRlu3021enDjppAl4huX96SBlN17D4bO3DNjJTiP2js9JSbpEPA66cyFYRvXFEV_RuYJJfty4Ptq6PHHkReEY8tgBLDcdL1NYmFmYBKl0YGD3HLSDIrUlIQs36QlarNxFEloCpOUcbxy801UQ6JFZqdhJtiFfuaL7kPckjT4MDCeTPYkTw7bgwCafGmIyMem0SIFq5rVM__yTo8eWRgUhVxDiUi3IRc0_09VmH78ne18lh_Xw6Lc0uiNkj7ZaVBu3aL5WCZy9XWNUW_k0gUjIvNn3jebbxX3vbLMJWELfW5pYxlosfDYvzslSARxNnfGdOtYpkYFE4qy0KZ1B1lDOQrS3ypfRanWO0WO6Ln6Yinr5LBh8xlyo4ubp-3jgfEML4rdXknKdGpbRHPJlomO7r5B5noFDVx1jz-b9RgLFVnMimd_mrpHI8ObGDvs8WI5UzuW1t5k711vE5eEqnwPpex6Tj2We8nz4h-e4jVAo72i2Rjcr3C-Cp-UI_69dNWxkFZhawU5JtV7OTtzTEz1_M9Qqm1q8GPbnohWWL78oRjxSfwhuFGh5j9Mpufm9NcgXnX7zEcOBQF-p-46cP0w1ahfTu4OpqiOA_1Z01fjLHCozmSmzw1TxieLKRT2ojh16jjfVI6jBuafUCstE7uarhroQICQeAQmkgEp5Z-xKLGaxzT9QQo9ks3-lxnNzlbZOumh3e7tD1qHwS7SxfcRyhgew_hXxsFQpryhod9_XfedOl4LJpHZdMQjE9btv9yJu7xQyX14YJAuvhxWq0RHxX8D1X_G33zoYzMKlVU3lG73nrNOHrISQEd9-rtIiJ02A8FFK-54ZY" class="x1i10hfl xjbqb8w x1ejq31n xd10rxx x1sy0etr x17r0tee x972fbf xcfux6l x1qhh985 xm0m39n x9f619 x1ypdohk xt0psk2 xe8uvvx xdj266r x11i5rnm xat24cr x1mh8g0r xexx8yu x4uap5 x18d9i69 xkhd6sd x16tdsg8 x1hl2dhg xggy1nq x1a2a7pz x1sur9pj xkrqix3 x1fey0fg" href="https://bec-foundation-golf-tournament.perfectgolfevent.com/?fbclid=IwZXh0bgNhZW0CMTAAAR2u5aEhotRYFo0sg4eqYu8SnFs6CbJBBhvmu14plgimfxTFAgnECg1LyFw_aem_4mceMBAonp_4ahXVQ8HFlA" rel="nofollow noreferrer" role="link" style="cursor: pointer\; text-decoration-line: none\; list-style: none\; margin: 0px\; text-align: inherit\; border-style: none\; padding: 0px\; box-sizing: border-box\; border-width: 0px\; outline: none\; -webkit-tap-highlight-color: transparent\; touch-action: manipulation\; background-color: transparent\; display: inline\; font-family: inherit\;" tabindex="0" target="_blank">https://bec-foundation-golf-tournament.perfectgolfevent.com/</a></span></div>\n</div>\n
LOCATION:Fair Oaks Ranch Golf & Country Club 7900 Fair Oaks Pkwy Fair Oaks Ranch\, TX 78015
UID:e.187.28626
SEQUENCE:3
DTSTAMP:20260419T162829Z
URL:https://business.boerne.org/events/details/bec-foundation-6th-annual-charity-golf-tournament-dinner-dance-28626
END:VEVENT

END:VCALENDAR
