BEGIN:VCALENDAR
VERSION:2.0
PRODID:-//ChamberMaster//Event Calendar 2.0//EN
METHOD:PUBLISH
X-PUBLISHED-TTL:P3D
REFRESH-INTERVAL:P3D
CALSCALE:GREGORIAN
BEGIN:VEVENT
DTSTART:20230428T160000Z
DTEND:20230428T163000Z
X-MICROSOFT-CDO-ALLDAYEVENT:FALSE
SUMMARY:Bandera Electric Technology Campus Grand Opening
DESCRIPTION:Founded in 1938\, Bandera Electric Cooperative provides electric service to over 40\,000 meters throughout its 2\,140 square mile service area in the Texas Hill Country.  Consistent with its vision of "Reimagining Rural America\," BEC began deploying fiber optic infrastructure in 2017 and now serves 12\,000 subscribers with state-of-the-art high speed internet service.\n\n \n\nBEC recently completed construction of a new Network Operations Center (NOC) a few miles northwest of Boerne on FM 289.  This facility serves as the central hub for BEC's fiber internet division\, network monitoring activities\, and disaster recovery strategy for electric operations.  Furthermore\, this NOC positions BEC to continue to serve its members with reliable internet and electric services as the greater Boerne area continues to grow.\n\n \n\nFor service availability and to apply\, visit www.BECFiber.com.
X-ALT-DESC;FMTTYPE=text/html:Founded in 1938\, Bandera Electric Cooperative provides electric service to over 40\,000 meters throughout its 2\,140 square mile service area in the Texas Hill Country.&nbsp\; Consistent with its vision of &ldquo\;Reimagining Rural America\,&rdquo\; BEC began deploying fiber optic infrastructure in 2017 and now serves 12\,000 subscribers with state-of-the-art high speed internet service.<br />\n&nbsp\;<br />\nBEC recently completed construction of a new Network Operations Center (NOC) a few miles northwest of Boerne on FM 289.&nbsp\; This facility serves as the central hub for BEC&rsquo\;s fiber internet division\, network monitoring activities\, and disaster recovery strategy for electric operations.&nbsp\; Furthermore\, this NOC positions BEC to continue to serve its members with reliable internet and electric services as the greater Boerne area continues to grow.<br />\n&nbsp\;<br />\nFor service availability and to apply\, visit&nbsp\;<a href="https://www.banderaelectric.com/en-us/fiber" target="_blank"><span style="text-decoration:none\;text-underline:none\;"><span style="color:windowtext\;">www.BECFiber.com</span></span></a>.
LOCATION:BEC Technology Campus 837 FM 289 Boerne\, TX. 78006
UID:e.187.21745
SEQUENCE:3
DTSTAMP:20260423T104143Z
URL:https://business.boerne.org/events/details/bandera-electric-technology-campus-grand-opening-21745
END:VEVENT

END:VCALENDAR
