BEGIN:VCALENDAR
VERSION:2.0
PRODID:-//ChamberMaster//Event Calendar 2.0//EN
METHOD:PUBLISH
X-PUBLISHED-TTL:P3D
REFRESH-INTERVAL:P3D
CALSCALE:GREGORIAN
BEGIN:VEVENT
DTSTART:20240914T123000Z
DTEND:20240914T150000Z
X-MICROSOFT-CDO-ALLDAYEVENT:FALSE
SUMMARY:Back the Badge 5K
DESCRIPTION:Join the Kendall County Citizen's Law Enforcement Academy Alumni Association for this year's BACK THE BADGE 5-K in the Beautiful Texas Hill Country in Boerne Texas on the Saturday following 9/11.\n\nYou can Sign-up Here:\n\nhttps://runsignup.com/Race/TX/Boerne/BacktheBadgeTrail5K\n\nRemember\, Law Enforcement Officers run Free with a special link available at registration and Departments can form teams to compete for a special award and bragging rights!\n\n\n\n5K Run/Walk\n\nPacket Pick Up: Race Day ONLY\n\nRace Day Registration will begin at 6:15am. Opening Ceremonies to begin at 7:00am.\n\n\n\nParticipants will be given a race shirt and a finisher medal.
X-ALT-DESC;FMTTYPE=text/html:<div class="xdj266r x11i5rnm xat24cr x1mh8g0r x1vvkbs" style="margin: 0px\; overflow-wrap: break-word\; font-family: &quot\;Segoe UI Historic&quot\;\, &quot\;Segoe UI&quot\;\, Helvetica\, Arial\, sans-serif\; color: rgb(5\, 5\, 5)\; font-size: 15px\;">Join the Kendall County Citizen&#39\;s Law Enforcement Academy Alumni Association&nbsp\;for this year&#39\;s BACK THE BADGE 5-K in the Beautiful Texas Hill Country in Boerne Texas on the Saturday following 9/11.</div>\n\n<div class="x11i5rnm xat24cr x1mh8g0r x1vvkbs xtlvy1s" style="margin: 0.5em 0px 0px\; overflow-wrap: break-word\; font-family: &quot\;Segoe UI Historic&quot\;\, &quot\;Segoe UI&quot\;\, Helvetica\, Arial\, sans-serif\; color: rgb(5\, 5\, 5)\; font-size: 15px\;">You can Sign-up Here:</div>\n\n<div class="x11i5rnm xat24cr x1mh8g0r x1vvkbs xtlvy1s" style="margin: 0.5em 0px 0px\; overflow-wrap: break-word\; font-family: &quot\;Segoe UI Historic&quot\;\, &quot\;Segoe UI&quot\;\, Helvetica\, Arial\, sans-serif\; color: rgb(5\, 5\, 5)\; font-size: 15px\;"><a attributionsrc="/privacy_sandbox/comet/register/source/?xt=AZU060VD6LbImGLaxY1dX-b_48jLytVqrqdzYk_d9gZK5Zy23Tmdv-cyQSWJs1WWqAI0QYPLKYGIuYW-zacLxll1wnWuPpMRNDRrkmw_ht832GWHIA1FKECLdWS3P4YF_qY7e12oPboL4v6TR7EmqCIrqknmBq8FOEpHAFYImO3wNpxakISfsDnkslVs1s6SD05bgXj_fIplvpankLNdMWLqoCNz_lj6eehnQBNx5Xe-nE4-0eN_FjFvVi-YLe25wqJ54Vue1Gr1xWQUGRJrkRPUoB-8Z1viXjbYPA-HfypiZvTNxuvXA_abM2WB7KSgCHZ6JaT0OtHowsCBJygelCFnMMxnZ0YnuM5cklu8CwYrBKmYIVxGdqWj6uQX_nTQMsLmv_BpKlaT20ak4uqhCz9y-cfCPNhSh1Le5N8Y_n3G4P0DrlfQpqpUaMwsB5qJwIIux5vOZq-mq8QJPTVPucAkGt4B3600Dd3-rhfk0O7_YjuGIRcdObvmocAYLIDdUOPO6WEKMtdch9kyvxKovrO2f9zjWkE-ZWhaTPZRQF8TsdQozXLkUxfNwa0EKDJ7-8Iiatcbwb6Yy9UcwJ8JH6mdChKOgL-zHcv3C7Jaqppa6Zrm31cNxpyA2uxyReiG8Ilsa3Jv64Hqe5Fg_6nrpSqHJSg8vuI5qdWZSdSSwMDZq6ZCu66Cu2RqOiJ14Dhl8Bazyfw-pJgDQFzjJdBMPlZQ2BDDOD2EgpksvGMAKcq9HgP8FuW-DKQvpJK89z1aUObAJiylkV9NI5QZesuOFbgTvn9psmiWzhlSIxvOrxQBSEpzATmJfI1tIa5VgthOTWuRY1lLbAxDkojpIAmFaAes" class="x1i10hfl xjbqb8w x1ejq31n xd10rxx x1sy0etr x17r0tee x972fbf xcfux6l x1qhh985 xm0m39n x9f619 x1ypdohk xt0psk2 xe8uvvx xdj266r x11i5rnm xat24cr x1mh8g0r xexx8yu x4uap5 x18d9i69 xkhd6sd x16tdsg8 x1hl2dhg xggy1nq x1a2a7pz x1sur9pj xkrqix3 x1fey0fg" href="https://runsignup.com/Race/TX/Boerne/BacktheBadgeTrail5K?fbclid=IwZXh0bgNhZW0CMTAAAR3TmqR6uhznNjF7odJZgPRinvDOjDVlUE2gE3S0wDIX9F1lR7zfEVxeTXo_aem_9ZDZBxiwSOlNCiaJc97URQ" rel="nofollow noreferrer" role="link" style="color: var(--blue-link)\; cursor: pointer\; text-decoration-line: none\; list-style: none\; margin: 0px\; text-align: inherit\; border-style: none\; padding: 0px\; box-sizing: border-box\; border-width: 0px\; outline: none\; -webkit-tap-highlight-color: transparent\; touch-action: manipulation\; background-color: transparent\; display: inline\; font-family: inherit\;" tabindex="0" target="_blank">https://runsignup.com/Race/TX/Boerne/BacktheBadgeTrail5K</a></div>\n\n<div class="x11i5rnm xat24cr x1mh8g0r x1vvkbs xtlvy1s" style="margin: 0.5em 0px 0px\; overflow-wrap: break-word\; font-family: &quot\;Segoe UI Historic&quot\;\, &quot\;Segoe UI&quot\;\, Helvetica\, Arial\, sans-serif\; color: rgb(5\, 5\, 5)\; font-size: 15px\;">Remember\, Law Enforcement Officers run Free with a special link available at registration and Departments can form teams to compete for a special award and bragging rights!<br />\n<br />\n5K Run/Walk<br />\nPacket Pick Up: Race Day ONLY<br />\nRace Day Registration will begin at 6:15am. Opening Ceremonies to begin at 7:00am.<br />\n<br />\nParticipants will be given a race shirt and a finisher medal.</div>\n
LOCATION:Boerne River Road Park 312 River Rd Boerne\, TX 78006
UID:e.187.28565
SEQUENCE:3
DTSTAMP:20260419T180818Z
URL:https://business.boerne.org/events/details/back-the-badge-5k-28565
END:VEVENT

END:VCALENDAR
