BEGIN:VCALENDAR
VERSION:2.0
PRODID:-//ChamberMaster//Event Calendar 2.0//EN
METHOD:PUBLISH
X-PUBLISHED-TTL:P3D
REFRESH-INTERVAL:P3D
CALSCALE:GREGORIAN
BEGIN:VEVENT
DTSTART:20241025T220000Z
DTEND:20241026T000000Z
X-MICROSOFT-CDO-ALLDAYEVENT:FALSE
SUMMARY:August House Fine Jewelry Grand Opening
DESCRIPTION:Join August House Fine Jewelry for their Grand Opening on Friday\, October 25th from 5-7pm. Wear a Halloween costume for a chance to win a piece of jewelry!
X-ALT-DESC;FMTTYPE=text/html:Join August House Fine Jewelry for their Grand Opening on Friday\, October 25th from 5-7pm. Wear a Halloween costume for a chance to win a piece of jewelry!&nbsp\;
LOCATION:August House Fine Jewelry 23718 W IH 10\, Suite 101 San Antonio\, TX 78257
UID:e.187.28758
SEQUENCE:3
DTSTAMP:20260419T181410Z
URL:https://business.boerne.org/events/details/august-house-fine-jewelry-grand-opening-28758
END:VEVENT

END:VCALENDAR
