BEGIN:VCALENDAR
VERSION:2.0
PRODID:-//ChamberMaster//Event Calendar 2.0//EN
METHOD:PUBLISH
X-PUBLISHED-TTL:P3D
REFRESH-INTERVAL:P3D
CALSCALE:GREGORIAN
BEGIN:VEVENT
DTSTART:20260114T000000Z
DTEND:20260114T010000Z
X-MICROSOFT-CDO-ALLDAYEVENT:FALSE
SUMMARY:ASEA Redox Presentation
DESCRIPTION:Come hear the story that started ASEA REDOX! Join Healthy Heart\, Soul & Cells on Tuesday\, January 13th\, 6-7pm in the Troubadour Room at Tapatio Springs Hill Country Resort. \n\n\n\nRSVP by calling Jim Motheral at 512-818-0492.
X-ALT-DESC;FMTTYPE=text/html:<span style="white-space-collapse: preserve\;">Come hear the story that started ASEA REDOX! Join </span><span class="xv78j7m" spellcheck="false" style="white-space-collapse: preserve\;">Healthy Heart\, Soul &amp\; Cells</span><span style="white-space-collapse: preserve\;"> on Tuesday\, January 13th\, 6-7pm in the Troubadour Room at </span><span class="xv78j7m" spellcheck="false" style="white-space-collapse: preserve\;">Tapatio Springs Hill Country Resort</span><span style="white-space-collapse: preserve\;">. </span><br />\n<br />\n<span style="white-space-collapse: preserve\;">RSVP by calling Jim Motheral at 512-818-0492. </span>
LOCATION:Troubadour Room Tapatio Springs Hill Country Resort
UID:e.187.32163
SEQUENCE:3
DTSTAMP:20260420T033844Z
URL:https://business.boerne.org/events/details/asea-redox-presentation-32163
END:VEVENT

END:VCALENDAR
