BEGIN:VCALENDAR
VERSION:2.0
PRODID:-//ChamberMaster//Event Calendar 2.0//EN
METHOD:PUBLISH
X-PUBLISHED-TTL:P3D
REFRESH-INTERVAL:P3D
CALSCALE:GREGORIAN
BEGIN:VEVENT
DTSTART:20191118T200000Z
DTEND:20191118T220000Z
X-MICROSOFT-CDO-ALLDAYEVENT:FALSE
SUMMARY:Annual Membership Meeting
DESCRIPTION:It's been an exciting year of change and growth at your Boerne Chamber. We hope you'll join us on November 18 for our Annual Membership Meeting! We'll review the past year full of new members and programs\, and take a look at what's ahead in 2020. Don't miss this opportunity to meet and engage with your fellow Chamber members!
X-ALT-DESC;FMTTYPE=text/html:It&#39\;s been an&nbsp\;exciting year of change and growth at your Boerne Chamber. We hope you&#39\;ll join us on November 18 for our Annual Membership Meeting! We&#39\;ll review the past year full of new members and programs\, and take a look at what&#39\;s ahead in 2020. Don&#39\;t miss this opportunity to meet and engage with your fellow Chamber members!
LOCATION:Kronkosky Place 17 Old San Antonio Rd. Boerne\, TX 78006
UID:e.187.16798
SEQUENCE:3
DTSTAMP:20260419T210203Z
URL:https://business.boerne.org/events/details/annual-membership-meeting-16798
END:VEVENT

END:VCALENDAR
