BEGIN:VCALENDAR
VERSION:2.0
PRODID:-//ChamberMaster//Event Calendar 2.0//EN
METHOD:PUBLISH
X-PUBLISHED-TTL:P3D
REFRESH-INTERVAL:P3D
CALSCALE:GREGORIAN
BEGIN:VEVENT
DTSTART:20250126T000000Z
DTEND:20250126T040000Z
X-MICROSOFT-CDO-ALLDAYEVENT:FALSE
SUMMARY:Annual Awards Gala Presented by BEC
DESCRIPTION:**This event is currently SOLD OUT. Please email steely@boerne.org if you'd like to be put on the waitlist.\n\n\n\nJoin the Greater Boerne Chamber of Commerce for a fabulous evening\, as we celebrate our business leaders at our Annual Awards Gala presented by BEC! This year's gala promises to be an unforgettable evening as we celebrate the businesses and individuals who make our community shine brighter than ever.\n\n\n\nNominees must be members of the Greater Boerne Chamber of Commerce in good standing and cannot have won in the category you're nominating them for in the past 3 years.\n\n\n\nNOMINATIONS ARE CLOSED.\n\n\n\n2024 Business of the Year (over 50 employees)\n\n\n\n2024 Nominees Include:\n\nBandera Electric Cooperative\n\nThe Bevy\, a Doubletree by Hilton\n\nCaden Lane\n\nColdwell Banker D'Ann Harper\, REALTORS\n\nGVTC Communications\n\nKnight Office Solutions\n\nSEnergy\, powered by Schneider Engineering\n\nVic Vaughan Toyota of Boerne\n\nVisiting Angels Boerne\n\nWoundLocal\n\n\n\nPast Winners Include:\n\n2023 Winner - Ford of Boerne\n\n2022 Winner - Cavender Chevrolet\n\n2021 Winner - Cibolo Creek Health & Rehabilitation\n\n\n\n\n\n2024 Business of the Year (under 50 employees)\n\n\n\n2024 Nominees Include:\n\nBlack Rifle Coffee Company\n\nBlume Haus \n\nBoerne Air Conditioning and Heating\n\nBoerne Elite Aquatics\n\nThe Boerne Life\n\nCalamity Jane's\n\nCrestmont Private Wealth\n\nEnrich Health and Wellness\n\nFair Oaks Emergency Room\n\nHamby's\n\nJoli Boutique\n\nLovorn Law Firm\n\nThe Pearl Antler\n\nThe Richter Boerne\n\nTres B lla Salon & Spa\n\nSavvy Southern Events\n\nSignarama\n\nTre Pizzeria\n\nTrio Rehabilitation & Wellness Solutions\n\n\n\nPast Winners Include:\n\n2023 Winner - Dog & Pony Grille\n\n2022 Winner - Boerne Radio\n\n2021 Winner - My Urgent Care Clinic - Boerne\n\n\n\n\n\n2024 Businessman of the Year\n\n\n\n2024 Nominees Include:\n\nGlen Boehm - Keller Williams Realty\, The Boehm Team\n\nJason Dady - Tre Pizzeria\n\nJoseph Diaz - Boerne Post Haus\n\nJacques DuBose - Mixx Consulting\n\nMark Finch - Boerne Air Conditioning and Heating\n\nMatthew Mattingly - Signarama\n\nSam McGee - Crestmont Private Wealth\n\nRoss Partlow - The Bevy\, a Doubletree by Hilton\n\nLance Pettigrew - SEnergy powered by Schneider Engineering\n\nDrew Seelman - Boerne Elite Aquatics\n\nKenny Sides - Frontrunner Air Conditioning and Heating\n\nDr. Israel Tellez - Fair Oaks Emergency Room\n\n\n\nPast Winners Include:\n\n2023 Winner - Shawn Lovorn\, Lovorn Law Firm\n\n2022 Winner - Alex Lopez\, Kendall County Roofing\n\n2021 Winner - Scott Edwards\, Mammoth Contracting\n\n\n\n\n\n2024 Businesswoman of the Year\n\n\n\n2024 Nominees Include:\n\nShawn Beach - Calamity Jane's\n\nTara Bove - Boerne Lifestyle\n\nVeronica Brown - Salvador Dobbs\n\nMaria Cole - Enrich Health and Wellness\n\nLeesa Harper-Rispoli - Coldwell Banker D'Ann Harper\, REALTORS\n\nReagan Harris - The Pearl Antler\n\nShiloh Hurst - Vista Swim Academy\n\nShawna Jackson - Savvy Southern Events\n\nKelly Mattingly - Signarama\n\nBethany Martinez - Anytime Fitness Boerne and Fair Oaks\n\nAshlee Pfeiffer - Kendall County Abstract Company\n\nEmma Faye Rudkin - Aid the Silent\n\nShan Wiley - Boerne Radio 103.9FM\n\n\n\n\n\nPast Winners Include:\n\n2023 Winner - Sonia Aguillon\, The GVTC Foundation\n\n2022 Winner - Leigh Owen\, Cibolo Center for Conservation\n\n2021 Winner - Staci Almager\, Hill Country Family Services\n\n\n\n\n\n2024 Nonprofit of the Year\n\n\n\n2024 Nominees Include:\n\nAid The Silent\n\nBoerne100\n\nBoerne Farmer's Market \n\nDas Festival of Kendall\n\nDay 1 Bags\n\nHill Country Animal League and Thrift Store\n\nHill Country Daily Bread Ministries\n\nHill Country Family Services\n\nHill Country Youth Orchestras\n\nKendall County Women's Shelter\n\nKinetic Kids\n\nMorningside Ministries at Menger Springs\n\nSJRC Texas | Belong\n\nSwing Strong\n\nTBI Warrior Foundation\n\nThe Center\n\nThe GVTC Foundation\n\nTransformation House\n\n\n\nPast Winners Include:\n\n2023 Winner - Kendall County Junior Livestock Association\n\n2022 Winner - Hill Country Pregnancy Care Center\n\n2021 Winner - Rotary Club of Boerne (Noon Rotary)\n See what you missed at our 2024 Gala! Check out the video below.
X-ALT-DESC;FMTTYPE=text/html:<p><span style="color:#FF0000\;"><strong>**This event is currently SOLD OUT. Please email steely@boerne.org if you&#39\;d like to be put on the waitlist.</strong></span><br />\n<br />\n<span style="color:#000000\;">Join the Greater Boerne Chamber of Commerce for a fabulous&nbsp\;evening\, as we celebrate our business leaders at our&nbsp\;Annual Awards Gala presented by BEC! This year&#39\;s gala promises to be an unforgettable evening as we celebrate the businesses and individuals who make our community shine brighter than ever.<br />\n<br />\nNominees must be members of the Greater Boerne Chamber of Commerce in good standing and cannot have won in the category you&#39\;re nominating them for in the past 3 years.</span><br />\n<br />\n<strong><span style="color:#000000\;">NOMINATIONS ARE CLOSED.<br />\n<br />\n2024 Business of the Year (over 50 employees)</span><br />\n<br />\n<span style="color:#000000\;">2024 Nominees Include:</span></strong><br />\n<span style="color:#000000\;">Bandera Electric Cooperative</span><br />\n<span style="color:#000000\;">The Bevy\, a Doubletree by Hilton</span><br />\n<span style="color:#000000\;">Caden Lane<br />\nColdwell Banker D&#39\;Ann Harper\, REALTORS<br />\nGVTC Communications<br />\nKnight Office Solutions<br />\nSEnergy\, powered by Schneider Engineering<br />\nVic Vaughan Toyota of Boerne<br />\nVisiting Angels Boerne<br />\nWoundLocal<br />\n<br />\n<strong>Past Winners Include:</strong><br />\n2023 Winner - Ford of Boerne<br />\n2022 Winner - Cavender Chevrolet<br />\n2021 Winner - Cibolo Creek Health &amp\; Rehabilitation</span><br />\n<br />\n<br />\n<strong><span style="color:#000000\;">2024 Business of the Year (under 50 employees)</span><br />\n<br />\n<span style="color:#000000\;">2024 Nominees Include:</span></strong><br />\n<span style="color:#000000\;">Black Rifle Coffee Company<br />\nBlume Haus&nbsp\;<br />\nBoerne Air Conditioning and Heating<br />\nBoerne Elite Aquatics<br />\nThe Boerne Life<br />\nCalamity Jane&#39\;s<br />\nCrestmont Private Wealth<br />\nEnrich Health and Wellness<br />\nFair Oaks Emergency Room<br />\nHamby&#39\;s<br />\nJoli Boutique<br />\nLovorn Law Firm<br />\nThe Pearl Antler<br />\nThe Richter Boerne<br />\nTres B</span><span style="font-size:12px\;"><span style="font-family:arial\;"><span style="color: rgb(14\, 15\, 19)\; background-color: rgb(248\, 244\, 235)\;">&egrave\;</span></span></span><span style="color:#000000\;">lla Salon &amp\; Spa<br />\nSavvy Southern Events<br />\nSignarama<br />\nTre Pizzeria<br />\nTrio Rehabilitation &amp\; Wellness Solutions<br />\n<br />\n<strong>Past Winners Include:</strong><br />\n2023 Winner - Dog &amp\; Pony Grille<br />\n2022 Winner - Boerne Radio<br />\n2021 Winner - My Urgent Care Clinic - Boerne</span><br />\n<br />\n<br />\n<strong><span style="color:#000000\;">2024 Businessman of the Year</span><br />\n<br />\n<span style="color:#000000\;">2024 Nominees Include:</span></strong><br />\n<span style="color:#000000\;">Glen Boehm - Keller Williams Realty\, The Boehm Team<br />\nJason Dady - Tre Pizzeria<br />\nJoseph Diaz - Boerne Post Haus<br />\nJacques DuBose - Mixx Consulting<br />\nMark Finch - Boerne Air Conditioning and Heating<br />\nMatthew Mattingly - Signarama<br />\nSam McGee - Crestmont Private Wealth<br />\nRoss Partlow - The Bevy\, a Doubletree by Hilton<br />\nLance Pettigrew - SEnergy powered by Schneider Engineering<br />\nDrew Seelman - Boerne Elite Aquatics<br />\nKenny Sides - Frontrunner Air Conditioning and Heating<br />\nDr. Israel Tellez - Fair Oaks Emergency Room<br />\n<br />\n<strong>Past Winners Include:</strong><br />\n2023&nbsp\;Winner - Shawn Lovorn\, Lovorn Law Firm<br />\n2022&nbsp\;Winner - Alex Lopez\, Kendall County Roofing<br />\n2021 Winner - Scott Edwards\, Mammoth Contracting</span><br />\n<br />\n<br />\n<strong><span style="color:#000000\;">2024 Businesswoman of the Year</span><br />\n<br />\n<span style="color:#000000\;">2024 Nominees Include:</span></strong><br />\n<span style="color:#000000\;">Shawn Beach - Calamity Jane&#39\;s<br />\nTara Bove - Boerne Lifestyle</span><br />\n<span style="color:#000000\;">Veronica Brown - Salvador Dobbs<br />\nMaria Cole - Enrich Health and Wellness<br />\nLeesa Harper-Rispoli - Coldwell Banker D&#39\;Ann Harper\, REALTORS<br />\nReagan Harris - The Pearl Antler<br />\nShiloh Hurst - Vista Swim Academy<br />\nShawna Jackson - Savvy Southern Events<br />\nKelly Mattingly - Signarama<br />\nBethany Martinez - Anytime Fitness Boerne and Fair Oaks<br />\nAshlee Pfeiffer - Kendall County Abstract Company<br />\nEmma Faye Rudkin - Aid the Silent<br />\nShan Wiley - Boerne Radio 103.9FM<br />\n<br />\n<br />\n<strong>Past Winners Include:</strong><br />\n2023 Winner - Sonia Aguillon\, The GVTC Foundation<br />\n2022 Winner - Leigh Owen\, Cibolo Center for Conservation<br />\n2021 Winner - Staci Almager\, Hill Country Family Services</span><br />\n<br />\n<br />\n<strong><span style="color:#000000\;">2024 Nonprofit of the Year</span></strong><br />\n<br />\n<span style="color:#000000\;"><strong>2024 Nominees Include:</strong><br />\nAid The Silent<br />\nBoerne100<br />\nBoerne Farmer&#39\;s Market&nbsp\;<br />\nDas Festival of Kendall<br />\nDay 1 Bags<br />\nHill Country Animal League and Thrift Store<br />\nHill Country Daily Bread Ministries<br />\nHill Country Family Services<br />\nHill Country Youth Orchestras<br />\nKendall County Women&#39\;s Shelter<br />\nKinetic Kids<br />\nMorningside Ministries at Menger Springs<br />\nSJRC Texas | Belong<br />\nSwing Strong<br />\nTBI Warrior Foundation<br />\nThe Center<br />\nThe GVTC Foundation<br />\nTransformation House<br />\n<br />\n<strong>Past Winners Include:</strong><br />\n2023 Winner - Kendall County Junior Livestock Association<br />\n2022 Winner - Hill Country Pregnancy Care Center<br />\n2021 Winner - Rotary Club of Boerne (Noon Rotary)</span></p>\n<span style="color:#000000\;">&#8203\;See what you missed at our 2024 Gala! Check out the video below.</span><iframe allow="accelerometer\; autoplay\; clipboard-write\; encrypted-media\; gyroscope\; picture-in-picture\; web-share" allowfullscreen="" frameborder="0" height="315" referrerpolicy="strict-origin-when-cross-origin" src="https://www.youtube.com/embed/MekYQ7ozNX4?si=Nw43avPILhxMwGJT" title="YouTube video player" width="560"></iframe>
LOCATION:The Cana Ballroom at St. Peter the Apostle Catholic Church
UID:e.187.28765
SEQUENCE:3
DTSTAMP:20260423T051914Z
URL:https://business.boerne.org/events/details/annual-awards-gala-presented-by-bec-28765
END:VEVENT

END:VCALENDAR
