BEGIN:VCALENDAR
VERSION:2.0
PRODID:-//ChamberMaster//Event Calendar 2.0//EN
METHOD:PUBLISH
X-PUBLISHED-TTL:P3D
REFRESH-INTERVAL:P3D
CALSCALE:GREGORIAN
BEGIN:VEVENT
DTSTART:20170419T130000Z
DTEND:20170419T170000Z
X-MICROSOFT-CDO-ALLDAYEVENT:FALSE
SUMMARY:Ambassdor Training & Operation Thank You
DESCRIPTION:Ambassador Training Forum and Operation Thank You.
X-ALT-DESC;FMTTYPE=text/html:Ambassador Training Forum and Operation Thank You.
LOCATION:Belleori Homestead 35 Old San Antonio Rd Boerne\, Tx 78006
UID:e.187.11632
SEQUENCE:3
DTSTAMP:20260423T054859Z
URL:https://business.boerne.org/events/details/ambassdor-training-operation-thank-you-11632
END:VEVENT

END:VCALENDAR
