BEGIN:VCALENDAR
VERSION:2.0
PRODID:-//ChamberMaster//Event Calendar 2.0//EN
METHOD:PUBLISH
X-PUBLISHED-TTL:P3D
REFRESH-INTERVAL:P3D
CALSCALE:GREGORIAN
BEGIN:VEVENT
DTSTART:20180801T164500Z
DTEND:20180801T180000Z
X-MICROSOFT-CDO-ALLDAYEVENT:FALSE
SUMMARY:Ambassador Council Meeting
DESCRIPTION:Ambassador Council Meeting
X-ALT-DESC;FMTTYPE=text/html:Ambassador Council Meeting
LOCATION:
UID:e.187.8964
SEQUENCE:3
DTSTAMP:20260420T042601Z
URL:https://business.boerne.org/events/details/ambassador-council-meeting-08-01-2018-8964
END:VEVENT

END:VCALENDAR
