BEGIN:VCALENDAR
VERSION:2.0
PRODID:-//ChamberMaster//Event Calendar 2.0//EN
METHOD:PUBLISH
X-PUBLISHED-TTL:P3D
REFRESH-INTERVAL:P3D
CALSCALE:GREGORIAN
BEGIN:VEVENT
DTSTART;VALUE=DATE:20191207
DTEND;VALUE=DATE:20191209
TRANSP:TRANSPARENT
X-MICROSOFT-CDO-ALLDAYEVENT:TRUE
SUMMARY:36th Annual Oma's Christmas Fair
DESCRIPTION:Holiday Craft Show Featuring Three Halls Of Handcrafted/Handmade Merchandise Vendors. Visits And Photo's With Santa\, Lunch With Santa On Saturday\, Food/Drink Concessions\,Bake Sale\, Raffles\, Great Shopping For The Whole Family
X-ALT-DESC;FMTTYPE=text/html:Holiday Craft Show Featuring Three Halls Of Handcrafted/Handmade Merchandise Vendors. Visits And Photo&#39\;s With Santa\, Lunch With Santa On Saturday\, Food/Drink Concessions\,Bake Sale\, Raffles\, Great Shopping For The Whole Family
LOCATION:Kendall County Fair Grounds 1307 River Road
UID:e.187.17139
SEQUENCE:3
DTSTAMP:20260420T133202Z
URL:https://business.boerne.org/events/details/36th-annual-oma-s-christmas-fair-17139
END:VEVENT

END:VCALENDAR
