BEGIN:VCALENDAR
VERSION:2.0
PRODID:-//ChamberMaster//Event Calendar 2.0//EN
METHOD:PUBLISH
X-PUBLISHED-TTL:P3D
REFRESH-INTERVAL:P3D
CALSCALE:GREGORIAN
BEGIN:VEVENT
DTSTART;VALUE=DATE:20250414
DTEND;VALUE=DATE:20250415
TRANSP:TRANSPARENT
X-MICROSOFT-CDO-ALLDAYEVENT:TRUE
SUMMARY:2nd Annual Crestmont Classic Golf Tournament
DESCRIPTION:Join Crestmont Christian Preparatory School for their 2nd Annual Crestmont Classic Golf Tournament! This event is Crestmont's largest fundraiser of the year\, and they invite YOU to register a team or become a supporting sponsor!
X-ALT-DESC;FMTTYPE=text/html:<span style="color:#000000\;">Join Crestmont Christian Preparatory School for their 2nd Annual Crestmont Classic Golf Tournament! This event is Crestmont&#39\;s largest fundraiser of the year\, and they invite YOU to register a team or become a supporting sponsor!&nbsp\;</span>
LOCATION:Fair Oaks Ranch Country Club
UID:e.187.29131
SEQUENCE:3
DTSTAMP:20260419T143445Z
URL:https://business.boerne.org/events/details/2nd-annual-crestmont-classic-golf-tournament-29131
END:VEVENT

END:VCALENDAR
