BEGIN:VCALENDAR
VERSION:2.0
PRODID:-//ChamberMaster//Event Calendar 2.0//EN
METHOD:PUBLISH
X-PUBLISHED-TTL:P3D
REFRESH-INTERVAL:P3D
CALSCALE:GREGORIAN
BEGIN:VEVENT
DTSTART:20241026T151500Z
DTEND:20241027T044500Z
X-MICROSOFT-CDO-ALLDAYEVENT:FALSE
SUMMARY:2024 Gone But Not Forgotten Tour
DESCRIPTION:Join the Genealogical Society of Kendall County for their 2024 Gone But Not Forgotten Tour at Boerne Cemetery on October 26th.\n\n\n\n3 tour times available\, 30 minute tours:\n\n10:15am\n\n10:45am\n\n11:15am
X-ALT-DESC;FMTTYPE=text/html:Join the Genealogical Society of Kendall County for their 2024 Gone But Not Forgotten Tour at Boerne Cemetery on October 26th.<br />\n<br />\n3 tour times available\, 30 minute tours:<br />\n10:15am<br />\n10:45am<br />\n11:15am
LOCATION:Boerne Cemetery 700 N School St Boerne\, TX 78006
UID:e.187.28615
SEQUENCE:3
DTSTAMP:20260419T174258Z
URL:https://business.boerne.org/events/details/2024-gone-but-not-forgotten-tour-28615
END:VEVENT

END:VCALENDAR
