BEGIN:VCALENDAR
VERSION:2.0
PRODID:-//ChamberMaster//Event Calendar 2.0//EN
METHOD:PUBLISH
X-PUBLISHED-TTL:P3D
REFRESH-INTERVAL:P3D
CALSCALE:GREGORIAN
BEGIN:VEVENT
DTSTART:20191012T230000Z
DTEND:20191013T030000Z
X-MICROSOFT-CDO-ALLDAYEVENT:FALSE
SUMMARY:2019 Magic of Horses Benefit Gala
DESCRIPTION:Benefitting Triple H Equitherapy A glittering evening Gala Featuring Siobhain Anders WOAI News4SA Emcee Joey Tomlinson\, Auctioneer Live Music & Dancing with the Ricky Adams Band Line Dancing Lessons with the DeCristoforos. Raffle! Live Auction!   Complimentary Beer\, Wine\, Margaritas   Hors d'oeuvres\, Dinner & Cash Bar   Photos with the Triple H Therapy Horses
X-ALT-DESC;FMTTYPE=text/html:Benefitting Triple H Equitherapy A glittering evening Gala Featuring Siobhain Anders WOAI News4SA Emcee Joey Tomlinson\, Auctioneer Live Music &amp\; Dancing with the Ricky Adams Band Line Dancing Lessons with the DeCristoforos. Raffle! Live Auction! &bull\; Complimentary Beer\, Wine\, Margaritas &bull\; Hors d&rsquo\;oeuvres\, Dinner &amp\; Cash Bar &bull\; Photos with the Triple H Therapy Horses
LOCATION:At Pedrotti's 13715 FM 1560 N. Helotes\, TX 78023
UID:e.187.16371
SEQUENCE:3
DTSTAMP:20260419T191445Z
URL:https://business.boerne.org/events/details/2019-magic-of-horses-benefit-gala-16371
END:VEVENT

END:VCALENDAR
