BEGIN:VCALENDAR
VERSION:2.0
PRODID:-//ChamberMaster//Event Calendar 2.0//EN
METHOD:PUBLISH
X-PUBLISHED-TTL:P3D
REFRESH-INTERVAL:P3D
CALSCALE:GREGORIAN
BEGIN:VEVENT
DTSTART;VALUE=DATE:20190517
DTEND;VALUE=DATE:20190518
TRANSP:TRANSPARENT
X-MICROSOFT-CDO-ALLDAYEVENT:TRUE
SUMMARY:2019 Boerne Chamber Golf Classic - Presented by Cavender Chevrolet
DESCRIPTION:Enjoy a day of golf\, networking\, awesome player perks and delicious food and drinks at the Boerne Chamber Annual Golf Classic\, brought to you by Cavender Chevrolet!\n\n\n\nThis year's tournament will be held at Tapatio Springs Hill Country Resort on Friday\, May 17\, 2019 with a 10 am shotgun start. A poolside happy hour and awards ceremony will be held after the tournament.
X-ALT-DESC;FMTTYPE=text/html:Enjoy a day of golf\, networking\, awesome player perks and delicious food and drinks at the Boerne Chamber Annual Golf Classic\, brought to you by <a href="https://business.boerne.org/list/member/cavender-chevrolet-248">Cavender Chevrolet</a>!<br />\n<br />\nThis year&#39\;s tournament will be held at Tapatio Springs Hill Country Resort on Friday\, May 17\, 2019 with a 10 am shotgun start. A poolside happy hour and awards ceremony will be held after the tournament.
LOCATION:Tapatio Springs Hill Country Resort 1 Resort Way Boerne\, TX 78006
UID:e.187.15320
SEQUENCE:3
DTSTAMP:20260419T143506Z
URL:https://business.boerne.org/events/details/2019-boerne-chamber-golf-classic-presented-by-cavender-chevrolet-15320
END:VEVENT

END:VCALENDAR
