BEGIN:VCALENDAR
VERSION:2.0
PRODID:-//ChamberMaster//Event Calendar 2.0//EN
METHOD:PUBLISH
X-PUBLISHED-TTL:P3D
REFRESH-INTERVAL:P3D
CALSCALE:GREGORIAN
BEGIN:VEVENT
DTSTART:20170404T163000Z
DTEND:20170404T170000Z
X-MICROSOFT-CDO-ALLDAYEVENT:FALSE
SUMMARY:15 Year Anniversary Celebration Penguin Suits
DESCRIPTION:Come join us to help celebrate 15 Years in Business - Penguin Suits.(link)
X-ALT-DESC;FMTTYPE=text/html:Come join us to help celebrate 15 Years in Business&nbsp\;- Penguin Suits.(<a href="http://www.penguinsuits.com">link</a>)
LOCATION:Penguin Suits (map) 100 W Hosack\, Ste. 102 Boerne\, TX 78006
UID:e.187.11497
SEQUENCE:3
DTSTAMP:20260423T055001Z
URL:https://business.boerne.org/events/details/15-year-anniversary-celebration-penguin-suits-11497
END:VEVENT

END:VCALENDAR
