BEGIN:VCALENDAR
VERSION:2.0
PRODID:-//ChamberMaster//Event Calendar 2.0//EN
METHOD:PUBLISH
X-PUBLISHED-TTL:P3D
REFRESH-INTERVAL:P3D
CALSCALE:GREGORIAN
BEGIN:VEVENT
DTSTART:20170711T190000Z
DTEND:20170711T200000Z
X-MICROSOFT-CDO-ALLDAYEVENT:FALSE
SUMMARY:10 Year Anniversary for All County Home Care and Hospice
DESCRIPTION:Come join us for a Ribbon Cutting Celebration for a 10 Year Anniversary for All County Home Care and Hospice.  (link)
X-ALT-DESC;FMTTYPE=text/html:Come join us for a Ribbon Cutting Celebration for a 10 Year Anniversary for <strong>All County Home Care and Hospice.</strong>&nbsp\; (<a href="http://allcountyhomecareandhospice.com/">link</a>)
LOCATION:All County Home Care and Hospice (map) 37131 IH 10 W.\, Ste. 400 Boerne\, TX 78006
UID:e.187.11695
SEQUENCE:3
DTSTAMP:20260423T023105Z
URL:https://business.boerne.org/events/details/10-year-anniversary-for-all-county-home-care-and-hospice-11695
END:VEVENT

END:VCALENDAR
